BEGIN:VCALENDAR
VERSION:2.0
PRODID:-//Alplaus Fire Department - ECPv6.15.17.1//NONSGML v1.0//EN
CALSCALE:GREGORIAN
METHOD:PUBLISH
X-ORIGINAL-URL:https://alplausfiredepartment.us
X-WR-CALDESC:Events for Alplaus Fire Department
REFRESH-INTERVAL;VALUE=DURATION:PT1H
X-Robots-Tag:noindex
X-PUBLISHED-TTL:PT1H
BEGIN:VTIMEZONE
TZID:UTC
BEGIN:STANDARD
TZOFFSETFROM:+0000
TZOFFSETTO:+0000
TZNAME:UTC
DTSTART:20220101T000000
END:STANDARD
END:VTIMEZONE
BEGIN:VEVENT
DTSTART;TZID=UTC:20231221T130000
DTEND;TZID=UTC:20231221T150000
DTSTAMP:20260425T042517
CREATED:20231112T203518Z
LAST-MODIFIED:20231112T203518Z
UID:430-1703163600-1703170800@alplausfiredepartment.us
SUMMARY:Alplaus Knitting Circle
DESCRIPTION:
URL:https://alplausfiredepartment.us/event/alplaus-knitting-circle-6/
CATEGORIES:Knitting Circle
END:VEVENT
BEGIN:VEVENT
DTSTART;TZID=UTC:20231214T080000
DTEND;TZID=UTC:20231214T170000
DTSTAMP:20260425T042517
CREATED:20231112T203433Z
LAST-MODIFIED:20231112T203433Z
UID:428-1702540800-1702573200@alplausfiredepartment.us
SUMMARY:Alplaus Knitting Circle
DESCRIPTION:
URL:https://alplausfiredepartment.us/event/alplaus-knitting-circle-5/
CATEGORIES:Knitting Circle
END:VEVENT
BEGIN:VEVENT
DTSTART;TZID=UTC:20231207T080000
DTEND;TZID=UTC:20231207T170000
DTSTAMP:20260425T042517
CREATED:20231112T203359Z
LAST-MODIFIED:20231112T203359Z
UID:426-1701936000-1701968400@alplausfiredepartment.us
SUMMARY:Alplaus Knitting Circle
DESCRIPTION:
URL:https://alplausfiredepartment.us/event/alplaus-knitting-circle-4/
CATEGORIES:Knitting Circle
END:VEVENT
BEGIN:VEVENT
DTSTART;TZID=UTC:20231130T130000
DTEND;TZID=UTC:20231130T150000
DTSTAMP:20260425T042517
CREATED:20231112T202759Z
LAST-MODIFIED:20231112T203613Z
UID:417-1701349200-1701356400@alplausfiredepartment.us
SUMMARY:Alplaus Knitting Circle
DESCRIPTION:
URL:https://alplausfiredepartment.us/event/alplaus-knitting-circle-3/
CATEGORIES:Knitting Circle
END:VEVENT
BEGIN:VEVENT
DTSTART;TZID=UTC:20231128T130000
DTEND;TZID=UTC:20231128T150000
DTSTAMP:20260425T042517
CREATED:20231112T203915Z
LAST-MODIFIED:20231112T203915Z
UID:434-1701176400-1701183600@alplausfiredepartment.us
SUMMARY:Alplaus Knitting Circle
DESCRIPTION:
URL:https://alplausfiredepartment.us/event/alplaus-knitting-circle-7/
CATEGORIES:Knitting Circle
END:VEVENT
BEGIN:VEVENT
DTSTART;TZID=UTC:20231123T130000
DTEND;TZID=UTC:20231123T150000
DTSTAMP:20260425T042517
CREATED:20231112T202645Z
LAST-MODIFIED:20231112T202645Z
UID:415-1700744400-1700751600@alplausfiredepartment.us
SUMMARY:Alplaus Knitting Circle
DESCRIPTION:
URL:https://alplausfiredepartment.us/event/alplaus-knitting-circle-2/
CATEGORIES:Knitting Circle
END:VEVENT
BEGIN:VEVENT
DTSTART;TZID=UTC:20231116T130000
DTEND;TZID=UTC:20231116T150000
DTSTAMP:20260425T042517
CREATED:20231112T202143Z
LAST-MODIFIED:20231112T202143Z
UID:412-1700139600-1700146800@alplausfiredepartment.us
SUMMARY:Alplaus Knitting Circle
DESCRIPTION:Join us for the next Alplaus Knitting Circle meeting!
URL:https://alplausfiredepartment.us/event/alplaus-knitting-circle/
LOCATION:Alplaus Meeting Room
CATEGORIES:Knitting Circle
END:VEVENT
END:VCALENDAR