BEGIN:VCALENDAR
VERSION:2.0
PRODID:-//Alplaus Fire Department - ECPv6.15.17.1//NONSGML v1.0//EN
CALSCALE:GREGORIAN
METHOD:PUBLISH
X-ORIGINAL-URL:https://alplausfiredepartment.us
X-WR-CALDESC:Events for Alplaus Fire Department
REFRESH-INTERVAL;VALUE=DURATION:PT1H
X-Robots-Tag:noindex
X-PUBLISHED-TTL:PT1H
BEGIN:VTIMEZONE
TZID:UTC
BEGIN:STANDARD
TZOFFSETFROM:+0000
TZOFFSETTO:+0000
TZNAME:UTC
DTSTART:20220101T000000
END:STANDARD
END:VTIMEZONE
BEGIN:VEVENT
DTSTART;TZID=UTC:20240530T130000
DTEND;TZID=UTC:20240530T150000
DTSTAMP:20260425T024931
CREATED:20240315T143720Z
LAST-MODIFIED:20240315T143720Z
UID:785-1717074000-1717081200@alplausfiredepartment.us
SUMMARY:Alplaus Knitting Circle
DESCRIPTION:Located in the Community Room
URL:https://alplausfiredepartment.us/event/alplaus-knitting-circle-19/
CATEGORIES:Knitting Circle
END:VEVENT
BEGIN:VEVENT
DTSTART;TZID=UTC:20240523T130000
DTEND;TZID=UTC:20240523T150000
DTSTAMP:20260425T024931
CREATED:20240315T143456Z
LAST-MODIFIED:20240315T143456Z
UID:782-1716469200-1716476400@alplausfiredepartment.us
SUMMARY:Alplaus Knitting Circle
DESCRIPTION:Located in the Community Room
URL:https://alplausfiredepartment.us/event/alplaus-knitting-circle-18/
CATEGORIES:Knitting Circle
END:VEVENT
BEGIN:VEVENT
DTSTART;TZID=UTC:20240516T130000
DTEND;TZID=UTC:20240516T150000
DTSTAMP:20260425T024931
CREATED:20240315T143302Z
LAST-MODIFIED:20240315T143302Z
UID:780-1715864400-1715871600@alplausfiredepartment.us
SUMMARY:Alplaus Knitting Circle
DESCRIPTION:Located in the Community Room
URL:https://alplausfiredepartment.us/event/alplaus-knitting-circle-17/
CATEGORIES:Knitting Circle
END:VEVENT
BEGIN:VEVENT
DTSTART;TZID=UTC:20240509T130000
DTEND;TZID=UTC:20240509T150000
DTSTAMP:20260425T024931
CREATED:20240315T143211Z
LAST-MODIFIED:20240315T143211Z
UID:778-1715259600-1715266800@alplausfiredepartment.us
SUMMARY:Alplaus Knitting Circle
DESCRIPTION:Located in the Community Room
URL:https://alplausfiredepartment.us/event/alplaus-knitting-circle-16/
CATEGORIES:Knitting Circle
END:VEVENT
BEGIN:VEVENT
DTSTART;TZID=UTC:20240502T130000
DTEND;TZID=UTC:20240502T150000
DTSTAMP:20260425T024931
CREATED:20240315T142635Z
LAST-MODIFIED:20240315T142635Z
UID:776-1714654800-1714662000@alplausfiredepartment.us
SUMMARY:Alplaus Knitting Circle
DESCRIPTION:Located in the Community Room
URL:https://alplausfiredepartment.us/event/alplaus-knitting-circle-15/
CATEGORIES:Knitting Circle
END:VEVENT
BEGIN:VEVENT
DTSTART;TZID=UTC:20240425T130000
DTEND;TZID=UTC:20240425T150000
DTSTAMP:20260425T024931
CREATED:20240315T141904Z
LAST-MODIFIED:20240315T141904Z
UID:774-1714050000-1714057200@alplausfiredepartment.us
SUMMARY:Alplaus Knitting Circle
DESCRIPTION:Located in the Community Room
URL:https://alplausfiredepartment.us/event/alplaus-knitting-circle-14/
CATEGORIES:Knitting Circle
END:VEVENT
BEGIN:VEVENT
DTSTART;TZID=UTC:20240418T130000
DTEND;TZID=UTC:20240418T150000
DTSTAMP:20260425T024931
CREATED:20240315T141817Z
LAST-MODIFIED:20240315T141817Z
UID:772-1713445200-1713452400@alplausfiredepartment.us
SUMMARY:Alplaus Knitting Circle
DESCRIPTION:Located in the Community Room
URL:https://alplausfiredepartment.us/event/alplaus-knitting-circle-13/
CATEGORIES:Knitting Circle
END:VEVENT
BEGIN:VEVENT
DTSTART;TZID=UTC:20240411T130000
DTEND;TZID=UTC:20240411T150000
DTSTAMP:20260425T024931
CREATED:20240315T141633Z
LAST-MODIFIED:20240315T141633Z
UID:770-1712840400-1712847600@alplausfiredepartment.us
SUMMARY:Alplaus Knitting Circle
DESCRIPTION:Located in the Community Room
URL:https://alplausfiredepartment.us/event/alplaus-knitting-circle-12/
CATEGORIES:Knitting Circle
END:VEVENT
BEGIN:VEVENT
DTSTART;TZID=UTC:20240404T130000
DTEND;TZID=UTC:20240404T150000
DTSTAMP:20260425T024931
CREATED:20240315T135200Z
LAST-MODIFIED:20240315T135200Z
UID:759-1712235600-1712242800@alplausfiredepartment.us
SUMMARY:Alplaus Knitting Circle
DESCRIPTION:Located in the Community Room
URL:https://alplausfiredepartment.us/event/alplaus-knitting-circle-11/
CATEGORIES:Knitting Circle
END:VEVENT
BEGIN:VEVENT
DTSTART;TZID=UTC:20240328T130000
DTEND;TZID=UTC:20240328T150000
DTSTAMP:20260425T024931
CREATED:20240315T133731Z
LAST-MODIFIED:20240315T133731Z
UID:755-1711630800-1711638000@alplausfiredepartment.us
SUMMARY:Alplaus Knitting Circle
DESCRIPTION:Located in the Community Room
URL:https://alplausfiredepartment.us/event/alplaus-knitting-circle-10/
CATEGORIES:Knitting Circle
END:VEVENT
BEGIN:VEVENT
DTSTART;TZID=UTC:20240321T130000
DTEND;TZID=UTC:20240321T150000
DTSTAMP:20260425T024931
CREATED:20240315T133121Z
LAST-MODIFIED:20240315T133121Z
UID:753-1711026000-1711033200@alplausfiredepartment.us
SUMMARY:Alplaus Knitting Circle
DESCRIPTION:Located in the Community Room
URL:https://alplausfiredepartment.us/event/alplaus-knitting-circle-9/
CATEGORIES:Knitting Circle
END:VEVENT
BEGIN:VEVENT
DTSTART;TZID=UTC:20231228T130000
DTEND;TZID=UTC:20231228T150000
DTSTAMP:20260425T024931
CREATED:20231112T204112Z
LAST-MODIFIED:20231112T204112Z
UID:438-1703768400-1703775600@alplausfiredepartment.us
SUMMARY:Alplaus Knitting Circle
DESCRIPTION:
URL:https://alplausfiredepartment.us/event/alplaus-knitting-circle-8/
CATEGORIES:Knitting Circle
END:VEVENT
BEGIN:VEVENT
DTSTART;TZID=UTC:20231221T130000
DTEND;TZID=UTC:20231221T150000
DTSTAMP:20260425T024931
CREATED:20231112T203518Z
LAST-MODIFIED:20231112T203518Z
UID:430-1703163600-1703170800@alplausfiredepartment.us
SUMMARY:Alplaus Knitting Circle
DESCRIPTION:
URL:https://alplausfiredepartment.us/event/alplaus-knitting-circle-6/
CATEGORIES:Knitting Circle
END:VEVENT
BEGIN:VEVENT
DTSTART;TZID=UTC:20231214T080000
DTEND;TZID=UTC:20231214T170000
DTSTAMP:20260425T024931
CREATED:20231112T203433Z
LAST-MODIFIED:20231112T203433Z
UID:428-1702540800-1702573200@alplausfiredepartment.us
SUMMARY:Alplaus Knitting Circle
DESCRIPTION:
URL:https://alplausfiredepartment.us/event/alplaus-knitting-circle-5/
CATEGORIES:Knitting Circle
END:VEVENT
BEGIN:VEVENT
DTSTART;TZID=UTC:20231207T080000
DTEND;TZID=UTC:20231207T170000
DTSTAMP:20260425T024931
CREATED:20231112T203359Z
LAST-MODIFIED:20231112T203359Z
UID:426-1701936000-1701968400@alplausfiredepartment.us
SUMMARY:Alplaus Knitting Circle
DESCRIPTION:
URL:https://alplausfiredepartment.us/event/alplaus-knitting-circle-4/
CATEGORIES:Knitting Circle
END:VEVENT
BEGIN:VEVENT
DTSTART;TZID=UTC:20231130T130000
DTEND;TZID=UTC:20231130T150000
DTSTAMP:20260425T024931
CREATED:20231112T202759Z
LAST-MODIFIED:20231112T203613Z
UID:417-1701349200-1701356400@alplausfiredepartment.us
SUMMARY:Alplaus Knitting Circle
DESCRIPTION:
URL:https://alplausfiredepartment.us/event/alplaus-knitting-circle-3/
CATEGORIES:Knitting Circle
END:VEVENT
BEGIN:VEVENT
DTSTART;TZID=UTC:20231128T130000
DTEND;TZID=UTC:20231128T150000
DTSTAMP:20260425T024931
CREATED:20231112T203915Z
LAST-MODIFIED:20231112T203915Z
UID:434-1701176400-1701183600@alplausfiredepartment.us
SUMMARY:Alplaus Knitting Circle
DESCRIPTION:
URL:https://alplausfiredepartment.us/event/alplaus-knitting-circle-7/
CATEGORIES:Knitting Circle
END:VEVENT
BEGIN:VEVENT
DTSTART;TZID=UTC:20231123T130000
DTEND;TZID=UTC:20231123T150000
DTSTAMP:20260425T024931
CREATED:20231112T202645Z
LAST-MODIFIED:20231112T202645Z
UID:415-1700744400-1700751600@alplausfiredepartment.us
SUMMARY:Alplaus Knitting Circle
DESCRIPTION:
URL:https://alplausfiredepartment.us/event/alplaus-knitting-circle-2/
CATEGORIES:Knitting Circle
END:VEVENT
BEGIN:VEVENT
DTSTART;TZID=UTC:20231116T130000
DTEND;TZID=UTC:20231116T150000
DTSTAMP:20260425T024931
CREATED:20231112T202143Z
LAST-MODIFIED:20231112T202143Z
UID:412-1700139600-1700146800@alplausfiredepartment.us
SUMMARY:Alplaus Knitting Circle
DESCRIPTION:Join us for the next Alplaus Knitting Circle meeting!
URL:https://alplausfiredepartment.us/event/alplaus-knitting-circle/
LOCATION:Alplaus Meeting Room
CATEGORIES:Knitting Circle
END:VEVENT
END:VCALENDAR